BEGIN:VCALENDAR
PRODID:-//eluceo/ical//2.0/EN
VERSION:2.0
CALSCALE:GREGORIAN
BEGIN:VEVENT
UID:81885bcbd6c699086b0a964ff91e6141
DTSTAMP:20260424T162906Z
SUMMARY:JCA Art Show Opening
DESCRIPTION:Jewish Federation & Foundation of Northeast Florida\nCommunity 
 agencies\, synagogues\, schools\nhttps://jewishjacksonville.org/jewish-com
 munity-information/jca-art-show-opening\n\nJCA Art Show Opening
DTSTART;TZID=America/New_York:20130908T000000
DTEND;TZID=America/New_York:20130908T235900
END:VEVENT
END:VCALENDAR
