BEGIN:VCALENDAR
PRODID:-//eluceo/ical//2.0/EN
VERSION:2.0
CALSCALE:GREGORIAN
BEGIN:VEVENT
UID:bff1e1fb8c44d07e30c4506338363431
DTSTAMP:20260422T054552Z
SUMMARY:7PM FUNDRAISER JCA Annual Fundraising Event
DESCRIPTION:Jewish Federation & Foundation of Northeast Florida\nCommunity 
 agencies\, synagogues\, schools\nhttps://jewishjacksonville.org/jewish-com
 munity-information/jca-annual-fundraiser-140757\n\nJoin us for the JCA Ann
 ual Fundraiser event on Saturday\, February 27 at 7 pm. Details to follow
 .  
DTSTART;TZID=America/New_York:20160227T193000
DTEND;TZID=America/New_York:20160227T233000
END:VEVENT
END:VCALENDAR
