BEGIN:VCALENDAR
PRODID:-//eluceo/ical//2.0/EN
VERSION:2.0
CALSCALE:GREGORIAN
BEGIN:VEVENT
UID:1ce7dfe99925c2c3d8081aff49f25248
DTSTAMP:20260420T155602Z
SUMMARY:6:00 p.m. Federation rGEN Steering Committee Meeting
DESCRIPTION:Jewish Federation & Foundation of Northeast Florida\nCommunity 
 agencies\, synagogues\, schools\nhttps://jewishjacksonville.org/jewish-com
 munity-information/jan-federation-rgen-steering-committee-meeting-311424\n
 \nFederation rGEN Steering Committee Meeting\n\nJanuary 9\, 2020\n\n6:00 -
  7:30 p.m.
DTSTART;TZID=America/New_York:20200109T180000
DTEND;TZID=America/New_York:20200109T193000
END:VEVENT
END:VCALENDAR
