BEGIN:VCALENDAR
PRODID:-//eluceo/ical//2.0/EN
VERSION:2.0
CALSCALE:GREGORIAN
BEGIN:VEVENT
UID:32c903bb0bcb7088dafd1957330c072e
DTSTAMP:20260421T073629Z
SUMMARY:7PM Galinsky Academy L'Dor V'Dor Event (pm)
DESCRIPTION:Jewish Federation & Foundation of Northeast Florida\nCommunity 
 agencies\, synagogues\, schools\nhttps://jewishjacksonville.org/jewish-com
 munity-information/galinsky-academy-ldor-vdor-event-pm-104760\n\nBreakfast
  at 9:00 am or Dessert at 7:00 pm
DTSTART;TZID=America/New_York:20150414T190000
DTEND;TZID=America/New_York:20150414T200000
END:VEVENT
END:VCALENDAR
