BEGIN:VCALENDAR
PRODID:-//eluceo/ical//2.0/EN
VERSION:2.0
CALSCALE:GREGORIAN
BEGIN:VEVENT
UID:467298823d0393465f491d073fc3f4b8
DTSTAMP:20260421T193324Z
SUMMARY:10:30AM JJC Foundations of Judaism
DESCRIPTION:Jewish Federation & Foundation of Northeast Florida\nCommunity 
 agencies\, synagogues\, schools\nhttps://jewishjacksonville.org/jewish-com
 munity-information/foundations-of-judaism-76545\n\nJJC Adult Education Cla
 ss with Rabbi Lubliner
DTSTART;TZID=America/New_York:20140810T103000
DTEND;TZID=America/New_York:20140810T120000
END:VEVENT
END:VCALENDAR
