BEGIN:VCALENDAR
PRODID:-//eluceo/ical//2.0/EN
VERSION:2.0
CALSCALE:GREGORIAN
BEGIN:VEVENT
UID:e10782e0d268e54e0b7d68c72e112697
DTSTAMP:20260420T150445Z
SUMMARY:10:30AM JJC Foundations of Judaism
DESCRIPTION:Jewish Federation & Foundation of Northeast Florida\nCommunity 
 agencies\, synagogues\, schools\nhttps://jewishjacksonville.org/jewish-com
 munity-information/foundations-of-judaism-133927\n\nJJC Adult Education Cl
 ass with Rabbi Lubliner
DTSTART;TZID=America/New_York:20150215T103000
DTEND;TZID=America/New_York:20150215T120000
END:VEVENT
END:VCALENDAR
