BEGIN:VCALENDAR
PRODID:-//eluceo/ical//2.0/EN
VERSION:2.0
CALSCALE:GREGORIAN
BEGIN:VEVENT
UID:abf651f00d6d80fb734ffb062e6c7893
DTSTAMP:20260420T182130Z
SUMMARY:7:00 PM First Friday Worship led by JAFTY
DESCRIPTION:Jewish Federation & Foundation of Northeast Florida\nCommunity 
 agencies\, synagogues\, schools\nhttps://jewishjacksonville.org/jewish-com
 munity-information/first-friday-worship-led-by-jafty\n\nOur JAFTY teens l
 ead us in Worship at this lively worship
DTSTART;TZID=America/New_York:20140704T190000
DTEND;TZID=America/New_York:20140704T203000
END:VEVENT
END:VCALENDAR
