BEGIN:VCALENDAR
PRODID:-//eluceo/ical//2.0/EN
VERSION:2.0
CALSCALE:GREGORIAN
BEGIN:VEVENT
UID:573a885a944e342687913ffcd93a2dcb
DTSTAMP:20260423T063212Z
SUMMARY:7:00 p.m. Federation YESOD Meeting
DESCRIPTION:Jewish Federation & Foundation of Northeast Florida\nCommunity 
 agencies\, synagogues\, schools\nhttps://jewishjacksonville.org/jewish-com
 munity-information/federation-yesod-meeting-317302\n\nFederation YESOD Mee
 ting\n\nAugust 14\, 2019\n\n7:00 - 8:30 p.m.
DTSTART;TZID=America/New_York:20190814T190000
DTEND;TZID=America/New_York:20190814T210000
END:VEVENT
END:VCALENDAR
