BEGIN:VCALENDAR
PRODID:-//eluceo/ical//2.0/EN
VERSION:2.0
CALSCALE:GREGORIAN
BEGIN:VEVENT
UID:8865867af523313750f26f64a69af7d2
DTSTAMP:20260425T230401Z
SUMMARY:DuBow Preschool Open House
DESCRIPTION:Jewish Federation & Foundation of Northeast Florida\nCommunity 
 agencies\, synagogues\, schools\nhttps://jewishjacksonville.org/jewish-com
 munity-information/dubow-preschool-open-house\n\nDubow Preschool Open Hous
 e
DTSTART;TZID=America/New_York:20131008T190000
DTEND;TZID=America/New_York:20131008T203000
END:VEVENT
END:VCALENDAR
