BEGIN:VCALENDAR
PRODID:-//eluceo/ical//2.0/EN
VERSION:2.0
CALSCALE:GREGORIAN
BEGIN:VEVENT
UID:dba732a6de139de21c60769e6903eca1
DTSTAMP:20260422T123309Z
SUMMARY:7PM JJC DuBow Preschool Back to School Night
DESCRIPTION:Jewish Federation & Foundation of Northeast Florida\nCommunity 
 agencies\, synagogues\, schools\nhttps://jewishjacksonville.org/jewish-com
 munity-information/dubow-preschool-back-to-school-night-84338\n\nDubow Pre
 school Back to School Event
DTSTART;TZID=America/New_York:20140829T190000
DTEND;TZID=America/New_York:20140829T203000
END:VEVENT
END:VCALENDAR
