BEGIN:VCALENDAR
PRODID:-//eluceo/ical//2.0/EN
VERSION:2.0
CALSCALE:GREGORIAN
BEGIN:VEVENT
UID:43091e010c4a5d487b9b0c1c54dd7529
DTSTAMP:20260422T174700Z
SUMMARY:9AM JJC Sisterhood Shabbat
DESCRIPTION:Jewish Federation & Foundation of Northeast Florida\nCommunity 
 agencies\, synagogues\, schools\nhttps://jewishjacksonville.org/jewish-com
 munity-information/def-sisterhood-shabbat-83810\n\nAnnual Sisterhood Shabb
 at
DTSTART;TZID=America/New_York:20150124T090000
DTEND;TZID=America/New_York:20150124T140000
END:VEVENT
END:VCALENDAR
