BEGIN:VCALENDAR
PRODID:-//eluceo/ical//2.0/EN
VERSION:2.0
CALSCALE:GREGORIAN
BEGIN:VEVENT
UID:b05f838f891f6c9005037b0aef710fd1
DTSTAMP:20260420T214635Z
SUMMARY:6 PM Federation Board Meeting
DESCRIPTION:Jewish Federation & Foundation of Northeast Florida\nCommunity 
 agencies\, synagogues\, schools\nhttps://jewishjacksonville.org/jewish-com
 munity-information/dec-16-federation-board-meeting-381256\n\nJewish Federa
 tion & Foundation of Northeast Florida Board Meeting\n\nDecember 16\, 2021
  6:00-7:00 p.m.
DTSTART;TZID=America/New_York:20211216T180000
DTEND;TZID=America/New_York:20211216T190000
END:VEVENT
END:VCALENDAR
