BEGIN:VCALENDAR
PRODID:-//eluceo/ical//2.0/EN
VERSION:2.0
CALSCALE:GREGORIAN
BEGIN:VEVENT
UID:17450f7cd7a8395efdbf2b47ce2ca161
DTSTAMP:20260419T155714Z
SUMMARY:3:30 PM Community Shavuot Ice Cream Social
DESCRIPTION:Jewish Federation & Foundation of Northeast Florida\nCommunity 
 agencies\, synagogues\, schools\nhttps://jewishjacksonville.org/jewish-com
 munity-information/community-shavuot-ice-cream-social-382636\n\nCommunity 
 Shavuot Ice Cream Social\n\nSunday\, June 12\, 2022 3:30 PM \n\nLocation
 : Beth El - The Beaches Synagogue
DTSTART;TZID=America/New_York:20220612T110000
DTEND;TZID=America/New_York:20220612T130000
END:VEVENT
END:VCALENDAR
