BEGIN:VCALENDAR
PRODID:-//eluceo/ical//2.0/EN
VERSION:2.0
CALSCALE:GREGORIAN
BEGIN:VEVENT
UID:8c3bf3f054abaceb968993f8b35c220c
DTSTAMP:20260422T120105Z
SUMMARY:3 PM Community Hamentash Bake
DESCRIPTION:Jewish Federation & Foundation of Northeast Florida\nCommunity 
 agencies\, synagogues\, schools\nhttps://jewishjacksonville.org/jewish-com
 munity-information/community-hamentash-bake-2022-382635\n\nIn preparation 
 for the upcoming holiday of Purim\, join the JCA\, PJ Library\, Federation
 \, and Etz Chaim Synagogue for our Family Hamentashen Bake. Aside from bak
 ing our three-cornered festival treats\, there will be games and crafts fo
 r the children\, This event is free and open to the community but registra
 tion is required! There will be outdoor and indoor seating offered. \n\n
  \n\nPlease register by March 1 at events.idonate.com/familyhamentash
DTSTART;TZID=America/New_York:20220306T130000
DTEND;TZID=America/New_York:20220306T150000
END:VEVENT
END:VCALENDAR
