BEGIN:VCALENDAR
PRODID:-//eluceo/ical//2.0/EN
VERSION:2.0
CALSCALE:GREGORIAN
BEGIN:VEVENT
UID:60bf4137fa26ba8166a3773a0bc93996
DTSTAMP:20260420T225254Z
SUMMARY:12AM B'not Mitzvah
DESCRIPTION:Jewish Federation & Foundation of Northeast Florida\nCommunity 
 agencies\, synagogues\, schools\nhttps://jewishjacksonville.org/jewish-com
 munity-information/bnot-mitzvah-76554\n\nCongregational B'not Mitzvah
DTSTART;TZID=America/New_York:20141107T000000
DTEND;TZID=America/New_York:20141108T230000
END:VEVENT
END:VCALENDAR
