BEGIN:VCALENDAR
PRODID:-//eluceo/ical//2.0/EN
VERSION:2.0
CALSCALE:GREGORIAN
BEGIN:VEVENT
UID:78030d556cc387ba84a9946a6dd074f7
DTSTAMP:20260424T042434Z
SUMMARY:5:45PM Beth El Bereavement Class
DESCRIPTION:Jewish Federation & Foundation of Northeast Florida\nCommunity 
 agencies\, synagogues\, schools\nhttps://jewishjacksonville.org/jewish-com
 munity-information/bereavement-class-86503\n\nThis group is not intended t
 o provide the kind of in depth grief counseling one would find with social
  service agencies and professional therapists. Beth El offers an informal 
 and informational group designed to provide guidance from Jewish tradition
  as we help each other cope with grief.
DTSTART;TZID=America/New_York:20140912T174500
DTEND;TZID=America/New_York:20140912T184500
END:VEVENT
END:VCALENDAR
