BEGIN:VCALENDAR
PRODID:-//eluceo/ical//2.0/EN
VERSION:2.0
CALSCALE:GREGORIAN
BEGIN:VEVENT
UID:400c11e38aa1c4d86cc028ac7e1485d0
DTSTAMP:20260420T123005Z
SUMMARY:12AM JJC Bat Mitzvah
DESCRIPTION:Jewish Federation & Foundation of Northeast Florida\nCommunity 
 agencies\, synagogues\, schools\nhttps://jewishjacksonville.org/jewish-com
 munity-information/bat-mitzvah-40-80835\n\nCongregational Bat Mitzvah
DTSTART;TZID=America/New_York:20150508T000000
DTEND;TZID=America/New_York:20150509T235500
END:VEVENT
END:VCALENDAR
