BEGIN:VCALENDAR
PRODID:-//eluceo/ical//2.0/EN
VERSION:2.0
CALSCALE:GREGORIAN
BEGIN:VEVENT
UID:aa8a6f647ff35641f4df10eb37bc3567
DTSTAMP:20260424T041004Z
SUMMARY:12AM JJC Bar Mitzvah 
DESCRIPTION:Jewish Federation & Foundation of Northeast Florida\nCommunity 
 agencies\, synagogues\, schools\nhttps://jewishjacksonville.org/jewish-com
 munity-information/bar-mitzvah-2014-80848\n\nCongregational Bar Mitzvah
DTSTART;TZID=America/New_York:20141226T000000
DTEND;TZID=America/New_York:20141227T230000
END:VEVENT
END:VCALENDAR
