BEGIN:VCALENDAR
PRODID:-//eluceo/ical//2.0/EN
VERSION:2.0
CALSCALE:GREGORIAN
BEGIN:VEVENT
UID:358600a5a12b254866d1f9ccbc2d596a
DTSTAMP:20260424T170137Z
SUMMARY:12AM JJC PTA Welcome Back
DESCRIPTION:Jewish Federation & Foundation of Northeast Florida\nCommunity 
 agencies\, synagogues\, schools\nhttps://jewishjacksonville.org/jewish-com
 munity-information/august-welcome-back-pta-83548\n\nPTA Welcome Back and N
 ew Member Event
DTSTART;TZID=America/New_York:20140817T000000
DTEND;TZID=America/New_York:20140817T235500
END:VEVENT
END:VCALENDAR
