BEGIN:VCALENDAR
PRODID:-//eluceo/ical//2.0/EN
VERSION:2.0
CALSCALE:GREGORIAN
BEGIN:VEVENT
UID:f781b1f66142457d7571021e4d237160
DTSTAMP:20260419T130300Z
SUMMARY:6:00 p.m. Federation Board Meeting
DESCRIPTION:Jewish Federation & Foundation of Northeast Florida\nCommunity 
 agencies\, synagogues\, schools\nhttps://jewishjacksonville.org/jewish-com
 munity-information/apr-federation-board-meeting-311502\n\nFederation Board
  Meeting\n\nApril 23\, 2020\n\n6:00 - 7:30 p.m.
DTSTART;TZID=America/New_York:20200423T180000
DTEND;TZID=America/New_York:20200423T193000
END:VEVENT
END:VCALENDAR
