BEGIN:VCALENDAR
PRODID:-//eluceo/ical//2.0/EN
VERSION:2.0
CALSCALE:GREGORIAN
BEGIN:VEVENT
UID:7355fba98b0d42448009fad7204e5dd7
DTSTAMP:20260423T102941Z
SUMMARY:Alexandra & Mark Miller Speaker Series
DESCRIPTION:Jewish Federation & Foundation of Northeast Florida\nCommunity 
 agencies\, synagogues\, schools\nhttps://jewishjacksonville.org/jewish-com
 munity-information/alexandra--mark-miller-speaker-series\n\nSpeaker Series
DTSTART;TZID=America/New_York:20130417T190000
DTEND;TZID=America/New_York:20130417T210000
END:VEVENT
END:VCALENDAR
