BEGIN:VCALENDAR
PRODID:-//eluceo/ical//2.0/EN
VERSION:2.0
CALSCALE:GREGORIAN
BEGIN:VEVENT
UID:bfdaa4bd2f56eda50d854e1dfbe56333
DTSTAMP:20260421T191541Z
SUMMARY:9AM Temple Torah Study
DESCRIPTION:Jewish Federation & Foundation of Northeast Florida\nCommunity 
 agencies\, synagogues\, schools\nhttps://jewishjacksonville.org/jewish-com
 munity-information/9am-torah-study1-157036\n\nTorah Study
DTSTART;TZID=America/New_York:20150905T090000
DTEND;TZID=America/New_York:20150905T100000
END:VEVENT
END:VCALENDAR
