BEGIN:VCALENDAR
PRODID:-//eluceo/ical//2.0/EN
VERSION:2.0
CALSCALE:GREGORIAN
BEGIN:VEVENT
UID:c8ac0a0872ebff038f7fdaf44f64b2c8
DTSTAMP:20260422T230558Z
SUMMARY:9AM Temple/JCA Trip for Seniors
DESCRIPTION:Jewish Federation & Foundation of Northeast Florida\nCommunity 
 agencies\, synagogues\, schools\nhttps://jewishjacksonville.org/jewish-com
 munity-information/9am-templejca-trip-for-seniors-157034\n\nJoin JCA Senio
 rs for a trip to IMAX for a private showing of Jerusalem.\n\n \n\nJERUSAL
 EM takes audiences on an inspiring and eye-opening tour of one of the worl
 d’s oldest and most enigmatic cities. Destroyed and rebuilt countless ti
 mes over 5\,000 years\, Jerusalem’s enduring appeal remains a mystery. W
 hat made it so important to so many different cultures? How did it become 
 the center of the world for three major religions? Why does it still matte
 r to us?\n\nJERUSALEM attempts to answer ...
DTSTART;TZID=America/New_York:20150826T090000
DTEND;TZID=America/New_York:20150826T150000
END:VEVENT
END:VCALENDAR
