BEGIN:VCALENDAR
PRODID:-//eluceo/ical//2.0/EN
VERSION:2.0
CALSCALE:GREGORIAN
BEGIN:VEVENT
UID:93498d506c24e6ab44415e085e017655
DTSTAMP:20260425T004141Z
SUMMARY:9AM Temple Blood Drive
DESCRIPTION:Jewish Federation & Foundation of Northeast Florida\nCommunity 
 agencies\, synagogues\, schools\nhttps://jewishjacksonville.org/jewish-com
 munity-information/9am-temple-blood-drive-157118\n\nBlood Drive
DTSTART;TZID=America/New_York:20150927T090000
DTEND;TZID=America/New_York:20150927T120000
END:VEVENT
END:VCALENDAR
