BEGIN:VCALENDAR
PRODID:-//eluceo/ical//2.0/EN
VERSION:2.0
CALSCALE:GREGORIAN
BEGIN:VEVENT
UID:eacbda834b2c8daed17d98e3df4805c9
DTSTAMP:20260423T101246Z
SUMMARY:9AM MJGDS First Grade Consecration
DESCRIPTION:Jewish Federation & Foundation of Northeast Florida\nCommunity 
 agencies\, synagogues\, schools\nhttps://jewishjacksonville.org/jewish-com
 munity-information/9am-mjgds-first-grade-consecration\n\n9AM MJGDS First G
 rade Consecration
DTSTART;TZID=America/New_York:20140201T090000
DTEND;TZID=America/New_York:20140201T110000
END:VEVENT
END:VCALENDAR
