BEGIN:VCALENDAR
PRODID:-//eluceo/ical//2.0/EN
VERSION:2.0
CALSCALE:GREGORIAN
BEGIN:VEVENT
UID:1ac49c0dabd10ce6920cb4d0bd46d327
DTSTAMP:20260421T042701Z
SUMMARY:9:30AM Temple Brotherhood Work Day
DESCRIPTION:Jewish Federation & Foundation of Northeast Florida\nCommunity 
 agencies\, synagogues\, schools\nhttps://jewishjacksonville.org/jewish-com
 munity-information/930am-temple-brotherhood-work-day\n\n9:30AM Temple Brot
 herhood Work Day
DTSTART;TZID=America/New_York:20130811T093000
DTEND;TZID=America/New_York:20130811T113000
END:VEVENT
END:VCALENDAR
