BEGIN:VCALENDAR
PRODID:-//eluceo/ical//2.0/EN
VERSION:2.0
CALSCALE:GREGORIAN
BEGIN:VEVENT
UID:c292d6ca83d18e786c3aa87002d0f90d
DTSTAMP:20260422T123359Z
SUMMARY:9:00 AM Super Sunday 2019
DESCRIPTION:Jewish Federation & Foundation of Northeast Florida\nCommunity 
 agencies\, synagogues\, schools\nhttps://jewishjacksonville.org/jewish-com
 munity-information/900-am-super-sunday-2019-284912\n\nFederation's Super S
 unday\n\nMarch 3rd\n\n9:00 a.m.-1:00 p.m. \n\nJewish Family and Community
  Services 
DTSTART;TZID=America/New_York:20190303T090000
DTEND;TZID=America/New_York:20190303T130000
END:VEVENT
END:VCALENDAR
