BEGIN:VCALENDAR
PRODID:-//eluceo/ical//2.0/EN
VERSION:2.0
CALSCALE:GREGORIAN
BEGIN:VEVENT
UID:0fbec0f5a9f2330c09dd725f09683aec
DTSTAMP:20260426T024001Z
SUMMARY:8AM JJC Coffee and Torah
DESCRIPTION:Jewish Federation & Foundation of Northeast Florida\nCommunity 
 agencies\, synagogues\, schools\nhttps://jewishjacksonville.org/jewish-com
 munity-information/8am-jjc-coffee-and-torah-76540\n\nStudy session with Ra
 bbi Lubliner at the JJC from 8-9 every third Saturday of the month.
DTSTART;TZID=America/New_York:20140920T080000
DTEND;TZID=America/New_York:20140920T090000
END:VEVENT
END:VCALENDAR
