BEGIN:VCALENDAR
PRODID:-//eluceo/ical//2.0/EN
VERSION:2.0
CALSCALE:GREGORIAN
BEGIN:VEVENT
UID:155d2655aabc73efa6a3d738113261c8
DTSTAMP:20260420T123931Z
SUMMARY:8:15AM Jewish National Fund - Lawyers for Israel Breakfast
DESCRIPTION:Jewish Federation & Foundation of Northeast Florida\nCommunity 
 agencies\, synagogues\, schools\nhttps://jewishjacksonville.org/jewish-com
 munity-information/815am-jewish-national-fund-lawyers-for-israel-breakfast
 -136325\n\nEvent will be held at the Jacksonville Jewish Center. 
DTSTART;TZID=America/New_York:20150417T081500
DTEND;TZID=America/New_York:20150417T100000
END:VEVENT
END:VCALENDAR
