BEGIN:VCALENDAR
PRODID:-//eluceo/ical//2.0/EN
VERSION:2.0
CALSCALE:GREGORIAN
BEGIN:VEVENT
UID:964b360b2d69a944a62a629451bc51f4
DTSTAMP:20260420T115210Z
SUMMARY:8:00AM Federation Mini Mission 2019
DESCRIPTION:Jewish Federation & Foundation of Northeast Florida\nCommunity 
 agencies\, synagogues\, schools\nhttps://jewishjacksonville.org/jewish-com
 munity-information/800am-federation-mini-mission-2019-286667\n\nMini Missi
 on\n\nNovember 9\, 2018\n\n8:00 am- 5:00 pm\n\nStarting at JCA
DTSTART;TZID=America/New_York:20181109T080000
DTEND;TZID=America/New_York:20181109T170000
END:VEVENT
END:VCALENDAR
