BEGIN:VCALENDAR
PRODID:-//eluceo/ical//2.0/EN
VERSION:2.0
CALSCALE:GREGORIAN
BEGIN:VEVENT
UID:b4a538b72bab72df97c91edb7128a4c5
DTSTAMP:20260423T030756Z
SUMMARY:7PM Temple's First Friday with JAFTY
DESCRIPTION:Jewish Federation & Foundation of Northeast Florida\nCommunity 
 agencies\, synagogues\, schools\nhttps://jewishjacksonville.org/jewish-com
 munity-information/7pm-temples-first-friday-with-jafty-156985\n\nJoin Temp
 le for our First Friday Shabbat. 7:00-9:00 p.m.
DTSTART;TZID=America/New_York:20150807T190000
DTEND;TZID=America/New_York:20150807T210000
END:VEVENT
END:VCALENDAR
