BEGIN:VCALENDAR
PRODID:-//eluceo/ical//2.0/EN
VERSION:2.0
CALSCALE:GREGORIAN
BEGIN:VEVENT
UID:1ed1b1924ab98bbe0dbb33b467219ecb
DTSTAMP:20260425T163424Z
SUMMARY:7PM Temple Chorale Rehearsal- HHD Music
DESCRIPTION:Jewish Federation & Foundation of Northeast Florida\nCommunity 
 agencies\, synagogues\, schools\nhttps://jewishjacksonville.org/jewish-com
 munity-information/7pm-temple-chorale-rehearsal-hhd-music2-157005\n\n Cho
 rale Rehearsal- HHD Music
DTSTART;TZID=America/New_York:20150903T190000
DTEND;TZID=America/New_York:20150903T210000
END:VEVENT
END:VCALENDAR
