BEGIN:VCALENDAR
PRODID:-//eluceo/ical//2.0/EN
VERSION:2.0
CALSCALE:GREGORIAN
BEGIN:VEVENT
UID:a3421a6065ace49c6b8de3abbdac211e
DTSTAMP:20260420T173421Z
SUMMARY:7PM Temple Choral Rehearsal - HHD Music
DESCRIPTION:Jewish Federation & Foundation of Northeast Florida\nCommunity 
 agencies\, synagogues\, schools\nhttps://jewishjacksonville.org/jewish-com
 munity-information/7pm-temple-choral-rehearsal-156984\n\nHHD Music Chorus 
 rehearsal.
DTSTART;TZID=America/New_York:20150806T190000
DTEND;TZID=America/New_York:20150806T210000
END:VEVENT
END:VCALENDAR
