BEGIN:VCALENDAR
PRODID:-//eluceo/ical//2.0/EN
VERSION:2.0
CALSCALE:GREGORIAN
BEGIN:VEVENT
UID:84dd5a7248e3c38867cacdb04b9c41c0
DTSTAMP:20260424T074149Z
SUMMARY:7PM Temple Bella Voce Concert
DESCRIPTION:Jewish Federation & Foundation of Northeast Florida\nCommunity 
 agencies\, synagogues\, schools\nhttps://jewishjacksonville.org/jewish-com
 munity-information/7pm-temple-bella-voce-concert\n\nBella Voce Concert….
  Saturday\, March 29 at 7:00 p.m.\nA family concert event! Join us for thi
 s very special evening of “Music from the Heart of the Jewish People”.
  The concert is presented by the Henry B. Masin/Isaac Freedman Cultural Ac
 tivities Fund and is free of charge. A dessert reception will follow. RSVP
 @TheTempleJacksonville.org or 733-7078. Temple attire is suggested.
DTSTART;TZID=America/New_York:20140329T190000
DTEND;TZID=America/New_York:20140329T220000
END:VEVENT
END:VCALENDAR
