BEGIN:VCALENDAR
PRODID:-//eluceo/ical//2.0/EN
VERSION:2.0
CALSCALE:GREGORIAN
BEGIN:VEVENT
UID:651d1b746393c12621f94c6faef0cbd5
DTSTAMP:20260421T132439Z
SUMMARY:7PM Temple - Reggae Oneg
DESCRIPTION:Jewish Federation & Foundation of Northeast Florida\nCommunity 
 agencies\, synagogues\, schools\nhttps://jewishjacksonville.org/jewish-com
 munity-information/7pm-temple---reggae-oneg\n\n7PM Temple - Reggae Oneg
DTSTART;TZID=America/New_York:20130802T190000
DTEND;TZID=America/New_York:20130802T210000
END:VEVENT
END:VCALENDAR
