BEGIN:VCALENDAR
PRODID:-//eluceo/ical//2.0/EN
VERSION:2.0
CALSCALE:GREGORIAN
BEGIN:VEVENT
UID:a3161af3be79546bc856aa02956a9ad3
DTSTAMP:20260425T201540Z
SUMMARY:7PM Temple - Preparing for the Days of Awe
DESCRIPTION:Jewish Federation & Foundation of Northeast Florida\nCommunity 
 agencies\, synagogues\, schools\nhttps://jewishjacksonville.org/jewish-com
 munity-information/7pm-temple---preparing-for-the-days-of-awe\n\n7PM Templ
 e - Preparing for the Days of Awe
DTSTART;TZID=America/New_York:20130826T190000
DTEND;TZID=America/New_York:20130826T230000
END:VEVENT
END:VCALENDAR
