BEGIN:VCALENDAR
PRODID:-//eluceo/ical//2.0/EN
VERSION:2.0
CALSCALE:GREGORIAN
BEGIN:VEVENT
UID:ec9a03dd89722dd259d31141f2f44e2f
DTSTAMP:20260425T003827Z
SUMMARY:7PM Temple - Intro to Judaism
DESCRIPTION:Jewish Federation & Foundation of Northeast Florida\nCommunity 
 agencies\, synagogues\, schools\nhttps://jewishjacksonville.org/jewish-com
 munity-information/7pm-temple---intro-to-judaism\n\n7PM Temple - Intro to 
 Judaism
DTSTART;TZID=America/New_York:20130801T190000
DTEND;TZID=America/New_York:20130801T210000
END:VEVENT
END:VCALENDAR
