BEGIN:VCALENDAR
PRODID:-//eluceo/ical//2.0/EN
VERSION:2.0
CALSCALE:GREGORIAN
BEGIN:VEVENT
UID:7f8950a056846cc8fe924a7f59726eb4
DTSTAMP:20260422T103052Z
SUMMARY:7PM River Garden Home Board meeting
DESCRIPTION:Jewish Federation & Foundation of Northeast Florida\nCommunity 
 agencies\, synagogues\, schools\nhttps://jewishjacksonville.org/jewish-com
 munity-information/7pm-river-garden-home-board-meeting\n\n7PM RG Home Boar
 d meeting
DTSTART;TZID=America/New_York:20131028T190000
DTEND;TZID=America/New_York:20131028T203000
END:VEVENT
END:VCALENDAR
