BEGIN:VCALENDAR
PRODID:-//eluceo/ical//2.0/EN
VERSION:2.0
CALSCALE:GREGORIAN
BEGIN:VEVENT
UID:32da6d7ce75685fee8fec3c15194ec78
DTSTAMP:20260424T230635Z
SUMMARY:7PM Kabbalat Shabbat with the Israeli Teens (Israeli Partnership)
DESCRIPTION:Jewish Federation & Foundation of Northeast Florida\nCommunity 
 agencies\, synagogues\, schools\nhttps://jewishjacksonville.org/jewish-com
 munity-information/7pm-kabbalat-shabbat-with-the-israeli-teens-israeli-par
 tnership-151399\n\nCall the Temple office for details.
DTSTART;TZID=America/New_York:20150626T190000
DTEND;TZID=America/New_York:20150626T210000
END:VEVENT
END:VCALENDAR
