BEGIN:VCALENDAR
PRODID:-//eluceo/ical//2.0/EN
VERSION:2.0
CALSCALE:GREGORIAN
BEGIN:VEVENT
UID:6fab1e2d0275e24cc177d04e551c1d8f
DTSTAMP:20260425T004121Z
SUMMARY:7PM JJC Men's Club - Suns Game
DESCRIPTION:Jewish Federation & Foundation of Northeast Florida\nCommunity 
 agencies\, synagogues\, schools\nhttps://jewishjacksonville.org/jewish-com
 munity-information/7pm-jjc-mens-club---suns-game\n\n7PM JJC Men's Club - S
 uns Game
DTSTART;TZID=America/New_York:20130815T190000
DTEND;TZID=America/New_York:20130815T213000
END:VEVENT
END:VCALENDAR
