BEGIN:VCALENDAR
PRODID:-//eluceo/ical//2.0/EN
VERSION:2.0
CALSCALE:GREGORIAN
BEGIN:VEVENT
UID:7e913ee3fe0c69520d1aac61248d3554
DTSTAMP:20260423T003850Z
SUMMARY:7pm JJC FUNDRAISER L'Dor V'Dor
DESCRIPTION:Jewish Federation & Foundation of Northeast Florida\nCommunity 
 agencies\, synagogues\, schools\nhttps://jewishjacksonville.org/jewish-com
 munity-information/7pm-jjc-fundraiser-ldor-vdor\n\n7pm JJC FUNDRAISER L'Do
 r V'Dor
DTSTART;TZID=America/New_York:20140504T190000
DTEND;TZID=America/New_York:20140504T220000
END:VEVENT
END:VCALENDAR
