BEGIN:VCALENDAR
PRODID:-//eluceo/ical//2.0/EN
VERSION:2.0
CALSCALE:GREGORIAN
BEGIN:VEVENT
UID:40491d397050999ac40dde342a59a9ac
DTSTAMP:20260424T101751Z
SUMMARY:7PM JJC Board Meeting
DESCRIPTION:Jewish Federation & Foundation of Northeast Florida\nCommunity 
 agencies\, synagogues\, schools\nhttps://jewishjacksonville.org/jewish-com
 munity-information/7pm-jjc-board-meeting\n\n7PM JJC Board Meeting
DTSTART;TZID=America/New_York:20140417T190000
DTEND;TZID=America/New_York:20140417T210000
END:VEVENT
END:VCALENDAR
