BEGIN:VCALENDAR
PRODID:-//eluceo/ical//2.0/EN
VERSION:2.0
CALSCALE:GREGORIAN
BEGIN:VEVENT
UID:83b6a82460accbd68561202a7f7d2bfa
DTSTAMP:20260425T163231Z
SUMMARY:7PM JJC Annual Meeting
DESCRIPTION:Jewish Federation & Foundation of Northeast Florida\nCommunity 
 agencies\, synagogues\, schools\nhttps://jewishjacksonville.org/jewish-com
 munity-information/7pm-jjc-annual-meeting-148556\n\nAnnual Meeting for the
  Jacksonville Jewish Center
DTSTART;TZID=America/New_York:20160526T190000
DTEND;TZID=America/New_York:20160526T213000
END:VEVENT
END:VCALENDAR
