BEGIN:VCALENDAR
PRODID:-//eluceo/ical//2.0/EN
VERSION:2.0
CALSCALE:GREGORIAN
BEGIN:VEVENT
UID:39ff117bff5fad85e9312e0de4971f73
DTSTAMP:20260420T110322Z
SUMMARY:7PM JJC Academy Trustees Meeting
DESCRIPTION:Jewish Federation & Foundation of Northeast Florida\nCommunity 
 agencies\, synagogues\, schools\nhttps://jewishjacksonville.org/jewish-com
 munity-information/7pm-jjc-academy-trustees-meeting\n\n7PM JJC Trustee Mee
 ting
DTSTART;TZID=America/New_York:20140206T190000
DTEND;TZID=America/New_York:20140206T210000
END:VEVENT
END:VCALENDAR
