BEGIN:VCALENDAR
PRODID:-//eluceo/ical//2.0/EN
VERSION:2.0
CALSCALE:GREGORIAN
BEGIN:VEVENT
UID:3c8e4c0a48ce9d88853eed8c92ac7ada
DTSTAMP:20260421T035745Z
SUMMARY:7PM JFCS Engaging Your Students in Successful Classroom Behavior
DESCRIPTION:Jewish Federation & Foundation of Northeast Florida\nCommunity 
 agencies\, synagogues\, schools\nhttps://jewishjacksonville.org/jewish-com
 munity-information/7pm-jfcs-engaging-your-students-in-successful-classroom
 -behavior\n\n7PM JFCS Successful Classroom Behavior
DTSTART;TZID=America/New_York:20140116T190000
DTEND;TZID=America/New_York:20140116T203000
END:VEVENT
END:VCALENDAR
