BEGIN:VCALENDAR
PRODID:-//eluceo/ical//2.0/EN
VERSION:2.0
CALSCALE:GREGORIAN
BEGIN:VEVENT
UID:4e5f84999138c471c9135c11ad089927
DTSTAMP:20260421T155545Z
SUMMARY:7:30PM Temple - Havdalah at the Beach
DESCRIPTION:Jewish Federation & Foundation of Northeast Florida\nCommunity 
 agencies\, synagogues\, schools\nhttps://jewishjacksonville.org/jewish-com
 munity-information/730pm-temple---havdalah-at-the-beach\n\n7:30PM Temple -
  Havdalah at the Beach
DTSTART;TZID=America/New_York:20130824T193000
DTEND;TZID=America/New_York:20130824T230000
END:VEVENT
END:VCALENDAR
