BEGIN:VCALENDAR
PRODID:-//eluceo/ical//2.0/EN
VERSION:2.0
CALSCALE:GREGORIAN
BEGIN:VEVENT
UID:f966b275ad91b9d5addf0d16df8e69af
DTSTAMP:20260423T165115Z
SUMMARY:7:15 JJC's Talmud Class
DESCRIPTION:Jewish Federation & Foundation of Northeast Florida\nCommunity 
 agencies\, synagogues\, schools\nhttps://jewishjacksonville.org/jewish-com
 munity-information/715-jjcs-talmud-class\n\n7:15 JJC's Talmud Class
DTSTART;TZID=America/New_York:20130701T191500
DTEND;TZID=America/New_York:20130701T201500
END:VEVENT
END:VCALENDAR
