BEGIN:VCALENDAR
PRODID:-//eluceo/ical//2.0/EN
VERSION:2.0
CALSCALE:GREGORIAN
BEGIN:VEVENT
UID:83523768ea8b7f6e9edcda791cbe07aa
DTSTAMP:20260422T171217Z
SUMMARY:7:00 PM Community Leadership Kickoff
DESCRIPTION:Jewish Federation & Foundation of Northeast Florida\nCommunity 
 agencies\, synagogues\, schools\nhttps://jewishjacksonville.org/jewish-com
 munity-information/700pm-community-leadership-kickoff-282164\n\nCommunity 
 Leadership Kickoff\n\nThursday\, September 13\n\n7:00-9:00 PM
DTSTART;TZID=America/New_York:20180913T190000
DTEND;TZID=America/New_York:20180913T210000
END:VEVENT
END:VCALENDAR
