BEGIN:VCALENDAR
PRODID:-//eluceo/ical//2.0/EN
VERSION:2.0
CALSCALE:GREGORIAN
BEGIN:VEVENT
UID:95d695178b5042c2cff6f5b528c43cbd
DTSTAMP:20260425T151130Z
SUMMARY:7:00 PM Torah Academy Board Meeting
DESCRIPTION:Jewish Federation & Foundation of Northeast Florida\nCommunity 
 agencies\, synagogues\, schools\nhttps://jewishjacksonville.org/jewish-com
 munity-information/700-pm-torah-academy-board-meeting-154739\n\nTorah Acad
 emy Board Meeting
DTSTART;TZID=America/New_York:20160218T190000
DTEND;TZID=America/New_York:20160218T200000
END:VEVENT
END:VCALENDAR
