BEGIN:VCALENDAR
PRODID:-//eluceo/ical//2.0/EN
VERSION:2.0
CALSCALE:GREGORIAN
BEGIN:VEVENT
UID:e546c6b7a7afa7a3d2f4ce5b4c902730
DTSTAMP:20260422T231146Z
SUMMARY:7:00 PM River Garden Home Board Meeting
DESCRIPTION:Jewish Federation & Foundation of Northeast Florida\nCommunity 
 agencies\, synagogues\, schools\nhttps://jewishjacksonville.org/jewish-com
 munity-information/700-pm-river-garden-home-board-meeting-105969\n\nHome B
 oard Meeting
DTSTART;TZID=America/New_York:20141027T190000
DTEND;TZID=America/New_York:20141027T200000
END:VEVENT
END:VCALENDAR
